BEGIN:VCALENDAR
VERSION:2.0
PRODID:-//Carnoustie Trinity Church - ECPv6.15.17//NONSGML v1.0//EN
CALSCALE:GREGORIAN
METHOD:PUBLISH
X-WR-CALNAME:Carnoustie Trinity Church
X-ORIGINAL-URL:https://www.carnoustietrinity.org.uk
X-WR-CALDESC:Events for Carnoustie Trinity Church
REFRESH-INTERVAL;VALUE=DURATION:PT1H
X-Robots-Tag:noindex
X-PUBLISHED-TTL:PT1H
BEGIN:VTIMEZONE
TZID:Europe/London
BEGIN:DAYLIGHT
TZOFFSETFROM:+0000
TZOFFSETTO:+0100
TZNAME:BST
DTSTART:20250330T010000
END:DAYLIGHT
BEGIN:STANDARD
TZOFFSETFROM:+0100
TZOFFSETTO:+0000
TZNAME:GMT
DTSTART:20251026T010000
END:STANDARD
BEGIN:DAYLIGHT
TZOFFSETFROM:+0000
TZOFFSETTO:+0100
TZNAME:BST
DTSTART:20260329T010000
END:DAYLIGHT
BEGIN:STANDARD
TZOFFSETFROM:+0100
TZOFFSETTO:+0000
TZNAME:GMT
DTSTART:20261025T010000
END:STANDARD
BEGIN:DAYLIGHT
TZOFFSETFROM:+0000
TZOFFSETTO:+0100
TZNAME:BST
DTSTART:20270328T010000
END:DAYLIGHT
BEGIN:STANDARD
TZOFFSETFROM:+0100
TZOFFSETTO:+0000
TZNAME:GMT
DTSTART:20271031T010000
END:STANDARD
END:VTIMEZONE
BEGIN:VEVENT
DTSTART;TZID=Europe/London:20260513T100000
DTEND;TZID=Europe/London:20260513T110000
DTSTAMP:20260420T163853
CREATED:20260331T163833Z
LAST-MODIFIED:20260331T163833Z
UID:7022-1778666400-1778670000@www.carnoustietrinity.org.uk
SUMMARY:Coffee & Chat
DESCRIPTION:
URL:https://www.carnoustietrinity.org.uk/event/coffee-chat-3/
LOCATION:Panbride Hall\, Arbroath Road\, Carnoustie\, DD7 6BL
CATEGORIES:Barry Parish Church,Carnoustie Church,Newton Panbride Church
ATTACH;FMTTYPE=image/png:https://www.carnoustietrinity.org.uk/wp-content/uploads/2024/07/Coffe-and-Chat.png
END:VEVENT
BEGIN:VEVENT
DTSTART;TZID=Europe/London:20260513T140000
DTEND;TZID=Europe/London:20260513T140000
DTSTAMP:20260420T163853
CREATED:20260119T174407Z
LAST-MODIFIED:20260119T174407Z
UID:6685-1778680800-1778680800@www.carnoustietrinity.org.uk
SUMMARY:Carnoustie Guild
DESCRIPTION:Bibles for Bairns \nNorman Liddle
URL:https://www.carnoustietrinity.org.uk/event/carnoustie-guild-4/
LOCATION:Pitskelly Farm\, 5 Pitskelly Road\, Barry\, Carnoustie\, DD7 7RH
CATEGORIES:Carnoustie Church
ATTACH;FMTTYPE=image/jpeg:https://www.carnoustietrinity.org.uk/wp-content/uploads/2025/09/Carnoustie-Guild-Nov-25.jpg
END:VEVENT
END:VCALENDAR