BEGIN:VCALENDAR
VERSION:2.0
PRODID:-//Carnoustie Trinity Church - ECPv6.15.17//NONSGML v1.0//EN
CALSCALE:GREGORIAN
METHOD:PUBLISH
X-ORIGINAL-URL:https://www.carnoustietrinity.org.uk
X-WR-CALDESC:Events for Carnoustie Trinity Church
REFRESH-INTERVAL;VALUE=DURATION:PT1H
X-Robots-Tag:noindex
X-PUBLISHED-TTL:PT1H
BEGIN:VTIMEZONE
TZID:Europe/London
BEGIN:DAYLIGHT
TZOFFSETFROM:+0000
TZOFFSETTO:+0100
TZNAME:BST
DTSTART:20250330T010000
END:DAYLIGHT
BEGIN:STANDARD
TZOFFSETFROM:+0100
TZOFFSETTO:+0000
TZNAME:GMT
DTSTART:20251026T010000
END:STANDARD
BEGIN:DAYLIGHT
TZOFFSETFROM:+0000
TZOFFSETTO:+0100
TZNAME:BST
DTSTART:20260329T010000
END:DAYLIGHT
BEGIN:STANDARD
TZOFFSETFROM:+0100
TZOFFSETTO:+0000
TZNAME:GMT
DTSTART:20261025T010000
END:STANDARD
BEGIN:DAYLIGHT
TZOFFSETFROM:+0000
TZOFFSETTO:+0100
TZNAME:BST
DTSTART:20270328T010000
END:DAYLIGHT
BEGIN:STANDARD
TZOFFSETFROM:+0100
TZOFFSETTO:+0000
TZNAME:GMT
DTSTART:20271031T010000
END:STANDARD
END:VTIMEZONE
BEGIN:VEVENT
DTSTART;TZID=Europe/London:20260429T100000
DTEND;TZID=Europe/London:20260429T110000
DTSTAMP:20260419T170748
CREATED:20260304T192153Z
LAST-MODIFIED:20260304T192153Z
UID:6953-1777456800-1777460400@www.carnoustietrinity.org.uk
SUMMARY:Coffee & Chat
DESCRIPTION:
URL:https://www.carnoustietrinity.org.uk/event/coffee-chat-8/
LOCATION:Panbride Hall\, Arbroath Road\, Carnoustie\, DD7 6BL
CATEGORIES:Barry Parish Church,Carnoustie Church,Newton Panbride Church
ATTACH;FMTTYPE=image/png:https://www.carnoustietrinity.org.uk/wp-content/uploads/2024/07/Coffe-and-Chat.png
END:VEVENT
BEGIN:VEVENT
DTSTART;TZID=Europe/London:20260429T141500
DTEND;TZID=Europe/London:20260429T153000
DTSTAMP:20260419T170748
CREATED:20260304T191456Z
LAST-MODIFIED:20260304T191456Z
UID:6943-1777472100-1777476600@www.carnoustietrinity.org.uk
SUMMARY:Panbride Musical Memories
DESCRIPTION:
URL:https://www.carnoustietrinity.org.uk/event/panbride-musical-memories/
LOCATION:Panbride Hall\, Arbroath Road\, Carnoustie\, DD7 6BL
CATEGORIES:Barry Parish Church,Carnoustie Church,Newton Panbride Church
ATTACH;FMTTYPE=image/jpeg:https://www.carnoustietrinity.org.uk/wp-content/uploads/2026/02/PMM-General-Slide.jpg
END:VEVENT
END:VCALENDAR