BEGIN:VCALENDAR
VERSION:2.0
PRODID:-//Carnoustie Trinity Church - ECPv6.15.17//NONSGML v1.0//EN
CALSCALE:GREGORIAN
METHOD:PUBLISH
X-WR-CALNAME:Carnoustie Trinity Church
X-ORIGINAL-URL:https://www.carnoustietrinity.org.uk
X-WR-CALDESC:Events for Carnoustie Trinity Church
REFRESH-INTERVAL;VALUE=DURATION:PT1H
X-Robots-Tag:noindex
X-PUBLISHED-TTL:PT1H
BEGIN:VTIMEZONE
TZID:Europe/London
BEGIN:DAYLIGHT
TZOFFSETFROM:+0000
TZOFFSETTO:+0100
TZNAME:BST
DTSTART:20250330T010000
END:DAYLIGHT
BEGIN:STANDARD
TZOFFSETFROM:+0100
TZOFFSETTO:+0000
TZNAME:GMT
DTSTART:20251026T010000
END:STANDARD
BEGIN:DAYLIGHT
TZOFFSETFROM:+0000
TZOFFSETTO:+0100
TZNAME:BST
DTSTART:20260329T010000
END:DAYLIGHT
BEGIN:STANDARD
TZOFFSETFROM:+0100
TZOFFSETTO:+0000
TZNAME:GMT
DTSTART:20261025T010000
END:STANDARD
BEGIN:DAYLIGHT
TZOFFSETFROM:+0000
TZOFFSETTO:+0100
TZNAME:BST
DTSTART:20270328T010000
END:DAYLIGHT
BEGIN:STANDARD
TZOFFSETFROM:+0100
TZOFFSETTO:+0000
TZNAME:GMT
DTSTART:20271031T010000
END:STANDARD
END:VTIMEZONE
BEGIN:VEVENT
DTSTART;TZID=Europe/London:20261203T140000
DTEND;TZID=Europe/London:20261203T160000
DTSTAMP:20260421T190916
CREATED:20260413T115606Z
LAST-MODIFIED:20260413T115606Z
UID:7106-1796306400-1796313600@www.carnoustietrinity.org.uk
SUMMARY:Barry Guild Afternoon Tea
DESCRIPTION:
URL:https://www.carnoustietrinity.org.uk/event/barry-guild-afternoon-tea-5/
LOCATION:Pitskelly Farm\, 5 Pitskelly Road\, Barry\, Carnoustie\, DD7 7RH
CATEGORIES:Barry Parish Church
ATTACH;FMTTYPE=image/jpeg:https://www.carnoustietrinity.org.uk/wp-content/uploads/2026/04/Barry-Guild-AT-December-2026.jpg
END:VEVENT
END:VCALENDAR