BEGIN:VCALENDAR
VERSION:2.0
PRODID:-//Carnoustie Trinity Church - ECPv6.15.17//NONSGML v1.0//EN
CALSCALE:GREGORIAN
METHOD:PUBLISH
X-WR-CALNAME:Carnoustie Trinity Church
X-ORIGINAL-URL:https://www.carnoustietrinity.org.uk
X-WR-CALDESC:Events for Carnoustie Trinity Church
REFRESH-INTERVAL;VALUE=DURATION:PT1H
X-Robots-Tag:noindex
X-PUBLISHED-TTL:PT1H
BEGIN:VTIMEZONE
TZID:Europe/London
BEGIN:DAYLIGHT
TZOFFSETFROM:+0000
TZOFFSETTO:+0100
TZNAME:BST
DTSTART:20250330T010000
END:DAYLIGHT
BEGIN:STANDARD
TZOFFSETFROM:+0100
TZOFFSETTO:+0000
TZNAME:GMT
DTSTART:20251026T010000
END:STANDARD
BEGIN:DAYLIGHT
TZOFFSETFROM:+0000
TZOFFSETTO:+0100
TZNAME:BST
DTSTART:20260329T010000
END:DAYLIGHT
BEGIN:STANDARD
TZOFFSETFROM:+0100
TZOFFSETTO:+0000
TZNAME:GMT
DTSTART:20261025T010000
END:STANDARD
BEGIN:DAYLIGHT
TZOFFSETFROM:+0000
TZOFFSETTO:+0100
TZNAME:BST
DTSTART:20270328T010000
END:DAYLIGHT
BEGIN:STANDARD
TZOFFSETFROM:+0100
TZOFFSETTO:+0000
TZNAME:GMT
DTSTART:20271031T010000
END:STANDARD
END:VTIMEZONE
BEGIN:VEVENT
DTSTART;TZID=Europe/London:20260527T100000
DTEND;TZID=Europe/London:20260527T110000
DTSTAMP:20260422T013507
CREATED:20260331T164050Z
LAST-MODIFIED:20260331T164050Z
UID:7026-1779876000-1779879600@www.carnoustietrinity.org.uk
SUMMARY:Coffee & Chat
DESCRIPTION:
URL:https://www.carnoustietrinity.org.uk/event/coffee-chat-5/
LOCATION:Panbride Hall\, Arbroath Road\, Carnoustie\, DD7 6BL
CATEGORIES:Barry Parish Church,Carnoustie Church,Newton Panbride Church
ATTACH;FMTTYPE=image/png:https://www.carnoustietrinity.org.uk/wp-content/uploads/2024/07/Coffe-and-Chat.png
END:VEVENT
BEGIN:VEVENT
DTSTART;TZID=Europe/London:20260527T141500
DTEND;TZID=Europe/London:20260527T153000
DTSTAMP:20260422T013507
CREATED:20260331T170506Z
LAST-MODIFIED:20260331T170506Z
UID:7037-1779891300-1779895800@www.carnoustietrinity.org.uk
SUMMARY:Panbride Musical Memories
DESCRIPTION:
URL:https://www.carnoustietrinity.org.uk/event/panbride-musical-memories-2/
LOCATION:Panbride Hall\, Arbroath Road\, Carnoustie\, DD7 6BL
CATEGORIES:Barry Parish Church,Carnoustie Church,Newton Panbride Church
ATTACH;FMTTYPE=image/jpeg:https://www.carnoustietrinity.org.uk/wp-content/uploads/2026/02/PMM-General-Slide.jpg
END:VEVENT
BEGIN:VEVENT
DTSTART;TZID=Europe/London:20260529T100000
DTEND;TZID=Europe/London:20260529T113000
DTSTAMP:20260422T013507
CREATED:20250906T153253Z
LAST-MODIFIED:20251228T141319Z
UID:6326-1780048800-1780054200@www.carnoustietrinity.org.uk
SUMMARY:Carlogie Cafe
DESCRIPTION:
URL:https://www.carnoustietrinity.org.uk/event/carlogie-cafe-5/
LOCATION:Panbride Hall\, Arbroath Road\, Carnoustie\, DD7 6BL
CATEGORIES:Barry Parish Church,Carnoustie Church,Newton Panbride Church
ATTACH;FMTTYPE=image/jpeg:https://www.carnoustietrinity.org.uk/wp-content/uploads/2025/09/Carlogie-Cafe-25-26.jpg
END:VEVENT
BEGIN:VEVENT
DTSTART;TZID=Europe/London:20260531T110000
DTEND;TZID=Europe/London:20260531T120000
DTSTAMP:20260422T013507
CREATED:20260331T162248Z
LAST-MODIFIED:20260331T162248Z
UID:7015-1780225200-1780228800@www.carnoustietrinity.org.uk
SUMMARY:Service of Worship - Newton Panbride
DESCRIPTION:We look forward to seeing you if you are coming to worship.\n\n\n \nThe children of the FOG Squad will join us for the first part of the service.\n\n\n \nOur service will be livestreamed to our Facebook page shortly before 11am and posted to our YouTube channel shortly after the service.\n\n\n \nPlease join us for tea\, coffee\, and fellowship in Panbride Hall after the service.\n \n\n\nAll welcome!
URL:https://www.carnoustietrinity.org.uk/event/service-of-worship-newton-panbride-6/
LOCATION:Newton Panbride Church\, Arbroath Road\, Carnoustie\, DD7 6BL
CATEGORIES:Newton Panbride Church
ATTACH;FMTTYPE=image/jpeg:https://www.carnoustietrinity.org.uk/wp-content/uploads/2024/08/Netwon-Panbride-2.jpg
END:VEVENT
BEGIN:VEVENT
DTSTART;TZID=Europe/London:20260626T100000
DTEND;TZID=Europe/London:20260626T113000
DTSTAMP:20260422T013507
CREATED:20250906T153403Z
LAST-MODIFIED:20251228T141217Z
UID:6328-1782468000-1782473400@www.carnoustietrinity.org.uk
SUMMARY:Carlogie Cafe
DESCRIPTION:
URL:https://www.carnoustietrinity.org.uk/event/carlogie-cafe-6/
LOCATION:Panbride Hall\, Arbroath Road\, Carnoustie\, DD7 6BL
CATEGORIES:Barry Parish Church,Carnoustie Church,Newton Panbride Church
ATTACH;FMTTYPE=image/jpeg:https://www.carnoustietrinity.org.uk/wp-content/uploads/2025/09/Carlogie-Cafe-25-26.jpg
END:VEVENT
END:VCALENDAR